BEGIN:VCALENDAR
VERSION:2.0
PRODID:-//CCLP - ECPv6.6.0.2//NONSGML v1.0//EN
CALSCALE:GREGORIAN
METHOD:PUBLISH
X-ORIGINAL-URL:https://cclp.ch
X-WR-CALDESC:Events for CCLP
REFRESH-INTERVAL;VALUE=DURATION:PT1H
X-Robots-Tag:noindex
X-PUBLISHED-TTL:PT1H
BEGIN:VTIMEZONE
TZID:Europe/Zurich
BEGIN:DAYLIGHT
TZOFFSETFROM:+0100
TZOFFSETTO:+0200
TZNAME:CEST
DTSTART:20240331T010000
END:DAYLIGHT
BEGIN:STANDARD
TZOFFSETFROM:+0200
TZOFFSETTO:+0100
TZNAME:CET
DTSTART:20241027T010000
END:STANDARD
END:VTIMEZONE
BEGIN:VEVENT
DTSTART;TZID=Europe/Zurich:20241101T200000
DTEND;TZID=Europe/Zurich:20241101T210000
DTSTAMP:20260421T103359
CREATED:20241010T182030Z
LAST-MODIFIED:20241010T182030Z
UID:29492-1730491200-1730494800@cclp.ch
SUMMARY:FESTA DE TODOS OS SANTOS
DESCRIPTION:
URL:https://cclp.ch/evento/festa-de-todos-os-santos/
LOCATION:Igreja Sta Clotilde\, 14 bis\, Av. Sainte-Clotilde\, Genève\, 1203\, Suisse
CATEGORIES:Celebrações
ATTACH;FMTTYPE=image/png:https://cclp.ch/wp-content/uploads/2024/10/todos-os-santos.png
END:VEVENT
BEGIN:VEVENT
DTSTART;TZID=Europe/Zurich:20241102T190000
DTEND;TZID=Europe/Zurich:20241102T200000
DTSTAMP:20260421T103359
CREATED:20241010T182130Z
LAST-MODIFIED:20241101T113517Z
UID:29495-1730574000-1730577600@cclp.ch
SUMMARY:FIÉIS DEFUNTOS
DESCRIPTION:
URL:https://cclp.ch/evento/fieis-defuntos/
CATEGORIES:Celebrações
ATTACH;FMTTYPE=image/png:https://cclp.ch/wp-content/uploads/2024/11/defuntos.png
END:VEVENT
BEGIN:VEVENT
DTSTART;TZID=Europe/Zurich:20241109T193000
DTEND;TZID=Europe/Zurich:20241110T010000
DTSTAMP:20260421T103400
CREATED:20241010T182523Z
LAST-MODIFIED:20241010T182406Z
UID:29482-1731180600-1731200400@cclp.ch
SUMMARY:Festa de S. Martinho 2024
DESCRIPTION:
URL:https://cclp.ch/evento/festa-de-s-martinho-2024/
CATEGORIES:Diversos
ATTACH;FMTTYPE=image/png:https://cclp.ch/wp-content/uploads/2024/10/sMartinho.png
END:VEVENT
BEGIN:VEVENT
DTSTART;TZID=Europe/Zurich:20241117T150000
DTEND;TZID=Europe/Zurich:20241117T160000
DTSTAMP:20260421T103400
CREATED:20241101T114127Z
LAST-MODIFIED:20241101T115350Z
UID:29517-1731855600-1731859200@cclp.ch
SUMMARY:CELEBRAÇÃO DA FÉ
DESCRIPTION:
URL:https://cclp.ch/evento/celebracao-da-fe/
LOCATION:Igreja Sta Clotilde\, 14 bis\, Av. Sainte-Clotilde\, Genève\, 1203\, Suisse
CATEGORIES:Celebrações
ATTACH;FMTTYPE=image/png:https://cclp.ch/wp-content/uploads/2024/11/celebracao_fe_v2.png
ORGANIZER;CN="Secretariado":MAILTO:secretariado@cclp.ch
END:VEVENT
END:VCALENDAR